BEGIN:VCALENDAR
VERSION:2.0
PRODID:-//Ecole Bourgeois Frères - ECPv6.15.0.1//NONSGML v1.0//EN
CALSCALE:GREGORIAN
METHOD:PUBLISH
X-WR-CALNAME:Ecole Bourgeois Frères
X-ORIGINAL-URL:https://ecolebourgeoisfreres.com
X-WR-CALDESC:Évènements pour Ecole Bourgeois Frères
REFRESH-INTERVAL;VALUE=DURATION:PT1H
X-Robots-Tag:noindex
X-PUBLISHED-TTL:PT1H
BEGIN:VTIMEZONE
TZID:Europe/Paris
BEGIN:DAYLIGHT
TZOFFSETFROM:+0100
TZOFFSETTO:+0200
TZNAME:CEST
DTSTART:20260329T010000
END:DAYLIGHT
BEGIN:STANDARD
TZOFFSETFROM:+0200
TZOFFSETTO:+0100
TZNAME:CET
DTSTART:20261025T010000
END:STANDARD
END:VTIMEZONE
BEGIN:VEVENT
DTSTART;TZID=Europe/Paris:20260422T083000
DTEND;TZID=Europe/Paris:20260424T153000
DTSTAMP:20260423T124753
CREATED:20240125T105008Z
LAST-MODIFIED:20260422T092241Z
UID:10001326-1776846600-1777044600@ecolebourgeoisfreres.com
SUMMARY:Reprendre ou Créer une boulangerie module Vente
DESCRIPTION:Un concentré d’outils pour bien démarrer en boutique\nCréer ou reprendre une boulangerie est un sacré challenge ! Pour vous préparer\, cet atelier vise à revoir les méthodes et bonnes pratiques au fournil. Baguettes\, pains\, viennoiseries\, brioches… Vous aurez en main tout ce qu’attendent les consommateurs. \nNous avons ajouté une partie gestion : marché\, concurrence\, indicateurs clés… Un rappel très concret de ce qui vous permettra d’être de bons gestionnaires de votre boulangerie au quotidien. \nInscrivez-vous en duo ! Un atelier similaire\, pour la partie vente\, est organisé en parallèle \n  \n1 jour : 8h30 – 17h\n2ème jour : 8h30 – 17h\n3ème jour : 8h – 15h \nDurée : 21h\n10 participants (6 minimum) \n  \nObjectifs pédagogiques\n\nConnaître les différents types de farine et modes de fermentation pour la fabrication du pain.\nMaîtriser les bases de la vente en boulangerie : communication\, marchandising\, emballage…\nSavoir valoriser l’environnement du magasin et préparer son ouverture en amont.\nRespecter les obligations règlementaires : hygiène\, étiquetage…\nSavoir créer et utiliser un tableau de bord : suivi CA et perte hebdomadaire\, suivi et exploitation des\nindicateurs pour établir des projections à court terme\n\n\n\nOrganisation de l’atelier\nÉquipe pédagogique \nL’atelier sera assuré par une animatrice de l’équipe pédagogique de l’École Bourgeois Frères pour la partie\nVENTE puis par Erwan Guillou\, expert en gestion et pilotage d’entreprise. \nMoyens pédagogiques et techniques \n\nAccueil des apprenants dans une salle dédiée à l’atelier.\nDocuments supports projetés.\nLivret de l’atelier et documents supports\nExercices pratiques / mises en situation.\n\nDispositif de suivi de l’exécution de l’évaluation des résultats de l’atelier \n\nFeuilles de présence.\nQuestions orales ou écrites (QCM).\nExercices pratiques / mises en situation.\nFormulaires d’évaluation de l’atelier.\n\n  \n  \nAccessibilité \n\n\nNos ateliers et formations peuvent être accessibles aux personnes en situation de handicap.Les aspects\, l’accessibilité et le type de handicap au regard des modalités d’accompagnement pédagogiques sont à évoquer impérativement au cours de l’entretien préalable à toute contractualisation afin de pouvoir orienter ou accompagner au mieux les personnes en situation de handicap.\n\nRéférente handicap : Christelle BASTIDE (christelle.bastide@ecolebourgeoisfreres.com)\n\n\nModalités d’accès \n\n\nMail : formation@ecolebourgeoisfreres.com \n\nTél : +33 (0)1 89 53 49 88\n\n\nDélais d’accès \n\n\nLe planning des ateliers et formations est disponible sur notre site internet et sur demande. Les inscriptions sont possibles\, en fonction des disponibilités\, jusqu’à 72 heures avant le début de l'atelier ou de la formation.
URL:https://ecolebourgeoisfreres.com/formation/reprendre-ou-creer-une-boulangerie-module-vente/2026-04-22/
LOCATION:Verdelot (77)\, Verdelot\, 77510
CATEGORIES:Atelier,Atelier Panification
ATTACH;FMTTYPE=image/jpeg:https://ecolebourgeoisfreres.com/wp-content/uploads/2024/01/IMG_0700.jpg
GEO:48.8729025;3.3711847
END:VEVENT
END:VCALENDAR