BEGIN:VCALENDAR
VERSION:2.0
PRODID:-//Ecole Bourgeois Frères - ECPv6.15.0.1//NONSGML v1.0//EN
CALSCALE:GREGORIAN
METHOD:PUBLISH
X-ORIGINAL-URL:https://ecolebourgeoisfreres.com
X-WR-CALDESC:Évènements pour Ecole Bourgeois Frères
REFRESH-INTERVAL;VALUE=DURATION:PT1H
X-Robots-Tag:noindex
X-PUBLISHED-TTL:PT1H
BEGIN:VTIMEZONE
TZID:Europe/Paris
BEGIN:DAYLIGHT
TZOFFSETFROM:+0100
TZOFFSETTO:+0200
TZNAME:CEST
DTSTART:20260329T010000
END:DAYLIGHT
BEGIN:STANDARD
TZOFFSETFROM:+0200
TZOFFSETTO:+0100
TZNAME:CET
DTSTART:20261025T010000
END:STANDARD
END:VTIMEZONE
BEGIN:VEVENT
DTSTART;TZID=Europe/Paris:20261123T083000
DTEND;TZID=Europe/Paris:20261125T150000
DTSTAMP:20260423T131310
CREATED:20251022T123423Z
LAST-MODIFIED:20260313T121024Z
UID:10001407-1795422600-1795618800@ecolebourgeoisfreres.com
SUMMARY:Cakes et gâteaux de voyage par Jonathan MOUGEL (MOF 2019)
DESCRIPTION:Nomades et rentables !\nLe cake\, tout le monde connaît. Souvenir d’enfance ou goûter express\, tout le monde sait aussi que c’est une valeur sûre pour combler un petit creux. Avec les recettes de Bellouet Conseil\, vos cakes passeront dans une nouvelle dimension : les enfants tireront leurs parents par la manche pour déguster le chocolat-noisette au petit-déjeuner\, le pain d’épices deviendra un succès de décembre et le coco-passion remplacera bouquet de fleurs et bouteille de vin comme cadeau d’invité. Cake myrtille-crumble\, week-end citron\, ou cake marrons confits… Vous aurez\, en plus\, de quoi varier votre offre d’achats additionnels. Du potentiel de chiffre d’affaires en plus ! \n  \n1er jour : 8h30 – 17h\n2ème jour : 8h30 – 17h\n3ème jour : 8h – 15h\nDurée : 21h\nTarif : 1 185 € HT (1 422 € TTC)\n8 participants (3 minimum) \n  \nFormateur : Jonathan MOUGEL (Bellouet Conseil) \n  \n 
URL:https://ecolebourgeoisfreres.com/formation/cakes-et-gateaux-de-voyage-par-jonathan-mougel-mof-2019/2026-11-23/
LOCATION:Verdelot (77)\, Verdelot\, 77510
CATEGORIES:Formation
ATTACH;FMTTYPE=image/jpeg:https://ecolebourgeoisfreres.com/wp-content/uploads/2025/10/BRIOCHE-COEUR-COULANT.jpg
GEO:48.8729025;3.3711847
END:VEVENT
BEGIN:VEVENT
DTSTART;TZID=Europe/Paris:20261207T083000
DTEND;TZID=Europe/Paris:20261211T150000
DTSTAMP:20260423T131310
CREATED:20260318T081251Z
LAST-MODIFIED:20260318T081251Z
UID:10001408-1796632200-1797001200@ecolebourgeoisfreres.com
SUMMARY:Premiers pas en boulangerie
DESCRIPTION:PREMIERS PAS EN BOULANGERIE (devenir aide-boulanger)\nUne initiation à la fabrication et au rythme en boulangerie.\nEn pleine pénurie de personnel\, il peut être tentant d’embaucher un novice motivé… Et de le former. Cette session de cinq jours a été imaginée pour vous y aider : \nAu cours de la semaine de formation\, l’apprenant découvre et met en pratique l’ensemble des fondamentaux de la boulangerie : pétrissage\, façonnage\, enfournement… Il apprend les bons gestes et les techniques de base\, tout en travaillant le rythme et la régularité nécessaires à la production en série et à la productivité en fournil. \nDe bonnes bases pour aborder le métier \n  \n1 jour : 8h30 – 17h\n2ème jour : 8h30 – 17h\n3ème jour : 8h30 – 17h\n4ème jour : 8h30 – 17h\n5ème jour : 8h30 – 15h \n  \n6 participants (3 minimum) \nTarif : 1490 € HT (1788 € TTC) \n  \nEn vidéo\n Témoignages en vidéo \nObjectifs pédagogiques\n\nAcquérir les gestes de bases en boulangerie\nAcquérir de la rapidité d’exécution\nAvoir une bonne connaissance des matières premières et des recettes de bases\nSavoir se servir du matériel de fabrication (pétrins\, fours …)\n\nContenu de la formation\nAccueil des apprenants \n\nPrésentation des locaux\, de la formation et des supports\nPartie théorique : découverte des différentes farines\n\nPréparation des différents produits \n\nPétrissage des pâtes (pain courant\, tradition\, pains spéciaux)\nFaçonnage des produits\nCuisson des produits\n\nPrésentation des produits \n\nRangement et nettoyage des locaux\nMise en valeur des produits\, dégustation et débriefing\nClôture de la formation avec évaluation\n\nOrganisation de la formation\nÉquipe pédagogique \n\nLa formation sera assurée par un formateur de l’équipe pédagogique de l’École Bourgeois Frères.\n\nMoyens pédagogiques et techniques \n\nAccueil des apprenants dans un espace dédié à la formation\nMise à disposition du matériel nécessaire (tenue vestimentaires\, produits\, ustensiles\, …) selon le sujet de la formation\nFiches recettes (livret)\nTravaux pratiques / mises en situation\nQuiz en salle\nMise à disposition en ligne de documents supports à la suite de la formation\n\nDispositif de suivi de l’exécution de l’évaluation des résultats de la formation \n\nFeuilles de présence\nQuestions orales ou écrites (QCM)\nTravaux pratiques / mises en situation\nFormulaires d’évaluation de la formation\nCertificat de réalisation de l’action de formation\n\nAccessibilité \n\n\nNos ateliers et formations peuvent être accessibles aux personnes en situation de handicap.Les aspects\, l’accessibilité et le type de handicap au regard des modalités d’accompagnement pédagogiques sont à évoquer impérativement au cours de l’entretien préalable à toute contractualisation afin de pouvoir orienter ou accompagner au mieux les personnes en situation de handicap.\n\nRéférente handicap : Christelle BASTIDE (christelle.bastide@ecolebourgeoisfreres.com)\n\n\nModalités d’accès \n\n\nMail : formation@ecolebourgeoisfreres.com \n\nTél : +33 (0)1 89 53 49 88\n\n\nDélais d’accès \n\n\nLe planning des ateliers et formations est disponible sur notre site internet et sur demande. Les inscriptions sont possibles\, en fonction des disponibilités\, jusqu’à 72 heures avant le début de l'atelier ou de la formation.
URL:https://ecolebourgeoisfreres.com/formation/premiers-pas-en-boulangerie-2024-2-2/
LOCATION:Verdelot (77)\, Verdelot\, 77510
CATEGORIES:Formation,Formation Panification
ATTACH;FMTTYPE=image/jpeg:https://ecolebourgeoisfreres.com/wp-content/uploads/2023/11/Mb_IMG_4251.jpg
GEO:48.8729025;3.3711847
END:VEVENT
END:VCALENDAR